BEGIN:VCALENDAR
VERSION:2.0
PRODID:-//jEvents 2.0 for Joomla//EN
CALSCALE:GREGORIAN
METHOD:PUBLISH
BEGIN:VEVENT
UID:c49c71d67634da53d7653ff96724b470
CATEGORIES:DEFAULT
SUMMARY:Per fare un bambino ci vuole un villaggio - Sondrio /edizione 2019-2020
LOCATION:Sala Conferenze dell'Oratorio Sacro Cuore, via D. Gianoli 18 - Sondrio
DESCRIPTION;ENCODING=QUOTED-PRINTABLE:\n\n"Smartphone: 10 ragioni per non regalarlo alla Prima Comunione" - Ore 2
 0.45\n\n\nInterviene: Prof.ssa Stefania Garassini, Docente di editoria mult
 imediale e giornalismo digitale all'Università Cattolica e giornalista\n\n\
 nPer info: 
DTSTAMP:20260424T211334Z
DTSTART:20200218T194500Z
SEQUENCE:0
TRANSP:OPAQUE
END:VEVENT
END:VCALENDAR