BEGIN:VCALENDAR
VERSION:2.0
PRODID:-//jEvents 2.0 for Joomla//EN
CALSCALE:GREGORIAN
METHOD:PUBLISH
BEGIN:VEVENT
UID:ca98fe81e9021eb872f5692bb54f67fd
CATEGORIES:DEFAULT
SUMMARY:Per fare un bambino ci vuole un villaggio - Sondrio /edizione 2019-2020
LOCATION:Sala della Banca Popolare di Sondrio, piazzetta Lantieri - Tirano (SO)
DESCRIPTION;ENCODING=QUOTED-PRINTABLE:\n\n"Fotogrammi Stupefacenti. Storia di una vita senza droghe" - Ore 20.45\
 n Con Federico Samaden, Scrittore e Dirigente scolastico.\nIntroduce: Dr. C
 laudio Marcassoli, Psichiatra e Psicoterapeuta.\n\n\nPer info: Questo indir
 izzo email è protetto dagli spambots. È necessario abilitare JavaScript per
  vederlo.
 //
 \n\nScarica la locandina con la rassegna completa degli inco
 ntri\n
DTSTAMP:20260424T234502Z
DTSTART:20200403T184500Z
SEQUENCE:0
TRANSP:OPAQUE
END:VEVENT
END:VCALENDAR