BEGIN:VCALENDAR
VERSION:2.0
PRODID:-//jEvents 2.0 for Joomla//EN
CALSCALE:GREGORIAN
METHOD:PUBLISH
BEGIN:VEVENT
UID:683b3c5efc656a2cc2d12ebc9734e06c
CATEGORIES:DEFAULT
SUMMARY:RIMANDATO/ Per fare un bambino ci vuole un villaggio - Sondrio /edizione 2019-2020
LOCATION:Santuario della Madonna di Tirano, Piazza del Santuario - Tirano (SO)
DESCRIPTION;ENCODING=QUOTED-PRINTABLE:\n\n"La bellezza: via per orientarsi al bene e al vero" - Ore 20.45\n Con S
 uor Maria Gloria Riva, scrittrice ed esperta di arte e spiritualità\n\n\nPe
 r info: Questo indirizzo email è protetto dagli spambots. È necessario abil
 itare JavaScript per vederlo.
 //
 \n\nScarica la locandina con la rassegna
  completa degli incontri\n
DTSTAMP:20260424T234501Z
DTSTART:20200420T184500Z
SEQUENCE:0
TRANSP:OPAQUE
END:VEVENT
END:VCALENDAR