BEGIN:VCALENDAR
VERSION:2.0
PRODID:-//jEvents 2.0 for Joomla//EN
CALSCALE:GREGORIAN
METHOD:PUBLISH
BEGIN:VEVENT
UID:ae9c622a16543a714519e5c2f786f7f3
CATEGORIES:DEFAULT
SUMMARY:RIMANDATO/Sogni, paure e ... realtà: come si fa?
LOCATION:Istituto Culturale “Giuseppe Neri” via Rosmini 5 - Pogliano Milanese
DESCRIPTION;ENCODING=QUOTED-PRINTABLE:\n\nIL CORSO E' STATO RIMANDATO AL PERIODO COMPRESO TRA FINE GIUGNO E INIZI
 O LUGLIO. \n\n\nMAGGIORI INFORMAZIONI IN SEGUITO. \n\nSABATO 9 maggio 2020 
 ore 9 – ore 13\nUn sottile confine tra sognare e disegnare: con un pennello
  in mano il bambino impara a essere.\nMaria Vicari, architetto e maestra d’
 arte\n\nDestinatari\nCorso di formazione per educatori asilo nido, docenti 
 di scuola dell’infanzia e primaria.\n\nContenuti\n“Le favole sono più che v
 ere: non perché raccontano che esistono i draghi, ma perché ci dicono che i
  draghi possono essere sconfitti” (G. K. CHESTERTON)\n\nObiettivi\n* Riscop
 rire il valore simbolico delle fiabe come aiuto a comprendere meglio se ste
 ssi e la realtà\n* Recuperare la propria autostima\n* Approfondire il nesso
  tra fantasia, creatività e realtà\n* Riflettere sul proprio compito educat
 ivo\n\nMetodologia \nLezioni partecipate, slide, drammatizzazione, laborato
 rio di pittura\n
DTSTAMP:20260425T012724Z
DTSTART:20200509T070000Z
DTEND:20200509T110000Z
SEQUENCE:0
TRANSP:OPAQUE
END:VEVENT
END:VCALENDAR