BEGIN:VCALENDAR
VERSION:2.0
PRODID:-//jEvents 2.0 for Joomla//EN
CALSCALE:GREGORIAN
METHOD:PUBLISH
BEGIN:VEVENT
UID:76e715b65066fba129f23f6e29f19ff5
CATEGORIES:DEFAULT
SUMMARY:ANNULLATO Convegno "Inclusione: una scuola per tutti. Il ruolo dello Stato e della società civile" 
LOCATION:Sala Pirelli, Via Fabio Filzi, 22, - Milano
DESCRIPTION;ENCODING=QUOTED-PRINTABLE:\n\nIl convegno promosso da Regione Lombardia dal tema "Inclusione: una scu
 ola per tutti. Il ruolo dello Stato e della società civile" del 7 marzo è s
 tato annullato.\n\n\nIl programma rimane in allegato \n
DTSTAMP:20260424T221408Z
DTSTART:20200307T083000Z
DTEND:20200307T083000Z
SEQUENCE:0
TRANSP:OPAQUE
END:VEVENT
END:VCALENDAR